BEGIN:VCALENDAR
PRODID:NingEventWidget-v1
VERSION:2.0
METHOD:PUBLISH
BEGIN:VTIMEZONE
TZID:Europe/Bucharest
X-LIC-LOCATION:Europe/Bucharest
BEGIN:DAYLIGHT
TZOFFSETFROM:+0200
TZOFFSETTO:+0300
TZNAME:EEST
DTSTART:19700329T030000
RRULE:FREQ=YEARLY;BYMONTH=3;BYDAY=-1SU
END:DAYLIGHT
BEGIN:STANDARD
TZOFFSETFROM:+0300
TZOFFSETTO:+0200
TZNAME:EET
DTSTART:19701025T040000
RRULE:FREQ=YEARLY;BYMONTH=10;BYDAY=-1SU
END:STANDARD
END:VTIMEZONE
BEGIN:VEVENT
UID:4464973:Event:547552
DTSTAMP:20260422T050821Z
SUMMARY:\"egy falatnyi Erdély\" Marosvásárhelyen (vándorrendezvén
 y)
DESCRIPTION:Várunk szeretettel marosvásárhelyi rendezvényünkre, m
 elyet a Bernády Házban május 15.-én este 18.00 tartunk. Bemutatjuk
  az európai körutunkon már megismertetett vadonatúj antológiánka
 t, a mezőségi alkotótábor munkáit és Bálint Zsigmond 40 darab e
 rdélyi fényképét. Vetíteni fogunk a Retropolisz-ból, Erdély ép
 ített örökségéről és a Legedáriumból, a székelyföldi legend
 ák életéről. Valamint alapítványunk munkásságáról is. Vendé
 geink lesznek a könyv szerzői közül: Bölöni Domokos, Kuti Márta
 , Lakó Péterfi Tünde és Berekméri Edmond. Ott lesz a Retropolisz 
 szerkesztője: Bodó Előd és a fotókiállítás alkotója Bálint Z
 sigmond és még sokan mások.\nVárunk Mindenkit szeretettel !(az ren
 dezvény eddigi helyszínei: Stuttgart, Karlsrühe, Freiburg, Amsterda
 m, Hamburg, Göteborg, Halmstad, Stockholm, Helsinki, Turku, Tampere, 
 Budapest, Verőce, Marosvásárhely)\n\nTovábbi információért lát
 ogasson el ide: http://www.erdelyimagyarok.com/events/egy-falatnyi-erd
 ely-marosvasarhelyen-vandorrendezveny
DTSTART;TZID=Europe/Bucharest:20130515T180000
DTEND;TZID=Europe/Bucharest:20130515T210000
CATEGORIES:vándorrendezvény
LOCATION:Marosvásárhely, Bernády Ház
WEBSITE:
URL:
CONTACT:
ORGANIZER;CN="erdelyimagyarok.com":http://www.erdelyimagyarok.com/prof
 ile/transylvania
ATTACH;FMTTYPE="image/jpeg":http://storage.ning.com/topology/rest/1.0/
 file/get/2589420160?profile=original
ATTENDEE;ROLE=REQ-PARTICIPANT;PARTSTAT=ACCEPTED;RSVP=TRUE;CN="Orbán E
 nikő":http://www.erdelyimagyarok.com/profile/OrbanEniko
ATTENDEE;ROLE=REQ-PARTICIPANT;PARTSTAT=ACCEPTED;RSVP=TRUE;CN="Ősz P.Z
 oltán":http://www.erdelyimagyarok.com/profile/OszPZoltan
ATTENDEE;ROLE=REQ-PARTICIPANT;PARTSTAT=ACCEPTED;RSVP=TRUE;CN="Lakó P
 terfi Tünde":http://www.erdelyimagyarok.com/profile/KovalszkyEmese
ATTENDEE;ROLE=REQ-PARTICIPANT;PARTSTAT=ACCEPTED;RSVP=TRUE;CN="erdelyim
 agyarok.com":http://www.erdelyimagyarok.com/profile/transylvania
ATTENDEE;ROLE=REQ-PARTICIPANT;PARTSTAT=TENTATIVE;RSVP=TRUE;CN="Szakác
 s (Szilágyi) Ilona":http://www.erdelyimagyarok.com/profile/SzakacsSzi
 lagyiIlona
ATTENDEE;ROLE=REQ-PARTICIPANT;PARTSTAT=TENTATIVE;RSVP=TRUE;CN="Geréb 
 /Pataky/ Ágnes":http://www.erdelyimagyarok.com/profile/GerebAgnes
ATTENDEE;ROLE=REQ-PARTICIPANT;PARTSTAT=TENTATIVE;RSVP=TRUE;CN="Margare
 ta Vilhelem":http://www.erdelyimagyarok.com/profile/MargaretaVilhelem
ATTENDEE;ROLE=REQ-PARTICIPANT;PARTSTAT=TENTATIVE;RSVP=TRUE;CN="Modi At
 tila":http://www.erdelyimagyarok.com/profile/ModiAttila
ATTENDEE;ROLE=REQ-PARTICIPANT;PARTSTAT=TENTATIVE;RSVP=TRUE;CN="Hajdó 
 Károly":http://www.erdelyimagyarok.com/profile/HajdoKaroly
END:VEVENT
END:VCALENDAR
