BEGIN:VCALENDAR
PRODID:NingEventWidget-v1
VERSION:2.0
METHOD:PUBLISH
BEGIN:VTIMEZONE
TZID:Europe/Bucharest
X-LIC-LOCATION:Europe/Bucharest
BEGIN:DAYLIGHT
TZOFFSETFROM:+0200
TZOFFSETTO:+0300
TZNAME:EEST
DTSTART:19700329T030000
RRULE:FREQ=YEARLY;BYMONTH=3;BYDAY=-1SU
END:DAYLIGHT
BEGIN:STANDARD
TZOFFSETFROM:+0300
TZOFFSETTO:+0200
TZNAME:EET
DTSTART:19701025T040000
RRULE:FREQ=YEARLY;BYMONTH=10;BYDAY=-1SU
END:STANDARD
END:VTIMEZONE
BEGIN:VEVENT
UID:4464973:Event:696278
DTSTAMP:20260424T081511Z
SUMMARY:EMBER Ã‰S FÃ–LD
DESCRIPTION:\nKiÃ¡llÃ­tÃ¡ssal Ã©s kÃ¶nyvbemutatÃ³val egybekÃ¶tÃ¶tt jÃ³
 tÃ©konysÃ¡gi rendezvÃ©nyt tartunk mÃ¡rcius 31-Ã©n, dÃ©lutÃ¡n 18 Ã³rÃ¡t
 Ã³l a Budapesti UnitÃ¡rius EgyhÃ¡zkÃ¶zsÃ©g dÃ­sztermÃ©ben (1055 Budape
 st, Nagy IgnÃ¡cz u. 2-4.), melyre tisztelettel meghÃ­vunk.  Az est fÃ©
 nypontja az Ember Ã©s FÃ¶ld cÃ­met viselÅ‘ kiÃ¡llÃ­tÃ¡s Ã©s az ebbÅ‘l 
 kÃ©szÃ¼lt gyÃ¶nyÃ¶rÅ± album bemutatÃ³ja lesz, amelyhez BÃ¶jte Csaba te
 stvÃ©r Ã­rt gondolatokat. Az est vendÃ©gei:Â  - BÃ¶jte Csaba ferences 
 szerzetes - KÃ¡szoni JÃ³zsef unitÃ¡rius pÃ¼spÃ¶ki helynÃ¶k - dr. Zsigm
 ond Barna PÃ¡l volt csÃ­kszeredai fÅ‘konzul - dr. Bitay MÃ¡rton Ã¡llam
 titkÃ¡r - BÃ¡lint Zsigmond fotÃ³mÅ±vÃ©sz  A cÃ©l, hogy felÃºjÃ­tsunk Ã
 ©s a kÃ¶zÃ¶ssÃ©g szolgÃ¡latÃ¡ba Ã¡llÃ­tsunk egy rÃ©gi csÅ±rt. Ã‰vek Ã³
 ta SzÃ©kelyvarsÃ¡gon tartunk kÃ©pzÅ‘mÅ±vÃ©szeti Ã©s fotogrÃ¡fiai alkot
 Ã³tÃ¡borokat, illetve kalandtÃ¡borokat is. A most bemutatandÃ³ kiÃ¡llÃ
 ­tÃ¡s anyaga is - 13 fotÃ³mÅ±vÃ©sz tolmÃ¡csolÃ¡sÃ¡ban - ott kÃ©szÃ¼lt.
  A kÃ¶zÃ¶ssÃ©gi Ã©lettÃ©rnek egy rÃ©gi csÅ±r ad otthont, ami igencsak 
 omladozÃ³ Ã¡llapotban van. Ezt szeretnÃ©nk ÃºjjÃ¡Ã©pÃ­teni, felÃºjÃ­ta
 ni, megÃ³vni attÃ³l, hogy az enyÃ©szetÃ© legyen. SzeretnÃ©nk, ha egy o
 lyan kÃ¶zÃ¶ssÃ©gi csÅ±rrÃ© tudnÃ¡nk alakÃ­tani, ahol az alkotÃ³k Ã©s a
 lkotÃ¡sok mellett kÃ¶zÃ¶s programok, tÃ¡nchÃ¡zak, hagyomÃ¡nyÅ‘rzÅ‘ fog
 lalkozÃ¡sok, Ã©s akÃ¡r hÃ¡lÃ³zsÃ¡kos szÃ¡llÃ¡shelyek is lehetnÃ©nek.Â 
  Sok munkÃ¡val jÃ¡r, hogy Ã¡lmunkat megvalÃ³sÃ­tsuk, de kÃ¶zÃ¶s akarat
 tal sikerÃ¼lni fog. Ha mindenki lendÃ­t egy kicsit rajta.  Az alapÃ­tv
 Ã¡nyrÃ³l tÃ¶bbet megtudhattok aÂ www.erdelyimagyarok.comweboldalon.  A
 ki nem tud eljÃ¶nni, de szeretnÃ© tÃ¡mogatni az Ã¼gyet, kÃ©rem vegye f
 el velÃ¼nk a kapcsolatot, hogy rÃ©szletesebben tÃ¡jÃ©koztathassuk. Ren
 dezvÃ©nyÃ¼nk nyitott Ã©s ingyenes. KÃ©rjÃ¼k, kÃ¼ldjÃ©tek el meghÃ­vÃ³n
 kat barÃ¡taitoknak, ismerÅ‘seiteknek is.Â   SzÃ¡mÃ­tunk megtisztelÅ‘ j
 elenlÃ©tetekre.Â Â  ErdÃ©lyi MagyarokÃ©rt KÃ¶zhasznÃº AlapÃ­tvÃ¡ny\n\n
 TovÃ¡bbi informÃ¡ciÃ³Ã©rt lÃ¡togasson el ide: http://www.erdelyimagyar
 ok.com/events/emberesfold
DTSTART;TZID=Europe/Bucharest:20170331T180000
DTEND;TZID=Europe/Bucharest:20170331T190000
CATEGORIES:kiÃ¡llÃ­tÃ¡s, Ã©s, kÃ¶nyvbemutatÃ³
LOCATION:Budapest
WEBSITE:
URL:
CONTACT:
ORGANIZER;CN="erdelyimagyarok.com":http://www.erdelyimagyarok.com/prof
 ile/transylvania
ATTACH;FMTTYPE="image/jpeg":http://storage.ning.com/topology/rest/1.0/
 file/get/2589479854?profile=original
ATTENDEE;ROLE=REQ-PARTICIPANT;PARTSTAT=ACCEPTED;RSVP=TRUE;CN="erdelyim
 agyarok.com":http://www.erdelyimagyarok.com/profile/transylvania
ATTENDEE;ROLE=REQ-PARTICIPANT;PARTSTAT=ACCEPTED;RSVP=TRUE;CN="szabone 
 fazakas anna":http://www.erdelyimagyarok.com/profile/szabonefazakasann
 a
ATTENDEE;ROLE=REQ-PARTICIPANT;PARTSTAT=TENTATIVE;RSVP=TRUE;CN="Id.Ã–lv
 edy Csaba dr.":http://www.erdelyimagyarok.com/profile/IdOElvedyCsabadr
END:VEVENT
END:VCALENDAR
