BEGIN:VCALENDAR
PRODID:NingEventWidget-v1
VERSION:2.0
METHOD:PUBLISH
BEGIN:VTIMEZONE
TZID:Europe/Bucharest
X-LIC-LOCATION:Europe/Bucharest
BEGIN:DAYLIGHT
TZOFFSETFROM:+0200
TZOFFSETTO:+0300
TZNAME:EEST
DTSTART:19700329T030000
RRULE:FREQ=YEARLY;BYMONTH=3;BYDAY=-1SU
END:DAYLIGHT
BEGIN:STANDARD
TZOFFSETFROM:+0300
TZOFFSETTO:+0200
TZNAME:EET
DTSTART:19701025T040000
RRULE:FREQ=YEARLY;BYMONTH=10;BYDAY=-1SU
END:STANDARD
END:VTIMEZONE
BEGIN:VEVENT
UID:4464973:Event:481811
DTSTAMP:20260423T153335Z
SUMMARY:HUNGARIKUM Napok
DESCRIPTION:Harmadik alkalommal szervezzÃ¼k meg Nagyszebenben a magyar
  jellegzetessÃ©geket, hungarikumokat bemutatÃ³ esemÃ©nyt. Az elÃ¶zÅ‘ Ã
 ©vekben nagy sikernek Ã©s visszhangnak Ã¶rvendÅ‘ esemÃ©nyt idÃ©n mÃ©g 
 tÃ¶bb Ã©rtÃ©kkel szeretnÃ©nk gazdagÃ­tani. ElsÅ‘ kitÅ±zÃ¶tt cÃ©lunkat 
 elÃ©rtÃ¼k: az esemÃ©ny a tÃ©rsÃ©g hivatalos mÅ±sorai kÃ¶zÃ¶tt szerepel
 , Ãºgy ahogy ezt sikeresen megtettÃ¼k a novemberben megrendezÃ©sre ker
 Ã¼lÅ‘ Ars HUNGARICA magyar kulturÃ¡lis fesztivÃ¡llal kapcsolatosan is.
  RÃ©szletek a Szeben.ro honlapon.\n\nTovÃ¡bbi informÃ¡ciÃ³Ã©rt lÃ¡toga
 sson el ide: http://www.erdelyimagyarok.com/events/hungarikum-napok
DTSTART;TZID=Europe/Bucharest:20120615T180000
DTEND;TZID=Europe/Bucharest:20120617T210000
CATEGORIES:fesztivÃ¡l
LOCATION:Nagyszeben, Gong SzÃ­nhÃ¡z, FalumÃºzeum, Thalia FilharmÃ³nia
WEBSITE:
URL:
CONTACT:
ORGANIZER;CN="SerfÅ‘zÅ‘ Levente":http://www.erdelyimagyarok.com/profil
 e/SerfozoLevente
ATTACH;FMTTYPE="image/jpeg":
ATTENDEE;ROLE=REQ-PARTICIPANT;PARTSTAT=ACCEPTED;RSVP=TRUE;CN="SerfÅ‘zÅ
 ‘ Levente":http://www.erdelyimagyarok.com/profile/SerfozoLevente
END:VEVENT
END:VCALENDAR
