BEGIN:VCALENDAR
PRODID:NingEventWidget-v1
VERSION:2.0
METHOD:PUBLISH
BEGIN:VTIMEZONE
TZID:Europe/Bucharest
X-LIC-LOCATION:Europe/Bucharest
BEGIN:DAYLIGHT
TZOFFSETFROM:+0200
TZOFFSETTO:+0300
TZNAME:EEST
DTSTART:19700329T030000
RRULE:FREQ=YEARLY;BYMONTH=3;BYDAY=-1SU
END:DAYLIGHT
BEGIN:STANDARD
TZOFFSETFROM:+0300
TZOFFSETTO:+0200
TZNAME:EET
DTSTART:19701025T040000
RRULE:FREQ=YEARLY;BYMONTH=10;BYDAY=-1SU
END:STANDARD
END:VTIMEZONE
BEGIN:VEVENT
UID:4464973:Event:516255
DTSTAMP:20260422T045923Z
SUMMARY:\"LÃ©lekÅ‘rzÅ‘ falvaim\" - BÃ¡lint Zsigmond kiÃ¡llÃ­tÃ¡sa
DESCRIPTION:Szeretettel meghÃ­vjuk BÃ¡lint Zsigmond fotÃ³mÅ±vÃ©sz 75. 
 szÃ¼letÃ©snapja alkalmÃ¡bÃ³l , 2008-2012 kÃ¶zÃ¶tt kÃ©szÃ¼lt kÃ©peibÅ‘l
  rendezett kiÃ¡llÃ­tÃ¡sÃ¡ra.MegnyitÃ³: 2012. okt. 18.-Ã¡n 17.00-korA k
 iÃ¡llÃ­tÃ¡st mÃ©ltatja: Nagy MiklÃ³s Kund, mÅ±vÃ©szeti Ã­rÃ³HelyszÃ­n:
  BernÃ¡dy HÃ¡z, MarosvÃ¡sÃ¡rhely, Horea u. 6\n\n\nTovÃ¡bbi informÃ¡ciÃ
 ³Ã©rt lÃ¡togasson el ide: http://www.erdelyimagyarok.com/events/leleko
 rzo-falvaim-balint-zsigmond-kiallitasa
DTSTART;TZID=Europe/Bucharest:20121018T170000
DTEND;TZID=Europe/Bucharest:20121118T190000
CATEGORIES:kiÃ¡llÃ­tÃ¡s
LOCATION:BernÃ¡dy HÃ¡z, MarosvÃ¡sÃ¡rhely, Horea u. 6
WEBSITE:
URL:
CONTACT:
ORGANIZER:
ATTACH;FMTTYPE="image/jpeg":http://storage.ning.com/topology/rest/1.0/
 file/get/2589413795?profile=original
ATTENDEE;ROLE=REQ-PARTICIPANT;PARTSTAT=ACCEPTED;RSVP=TRUE;CN="CzirjÃ©k
  Lajos":http://www.erdelyimagyarok.com/profile/CzirjekLajos
ATTENDEE;ROLE=REQ-PARTICIPANT;PARTSTAT=ACCEPTED;RSVP=TRUE;CN="erdelyim
 agyarok.com":http://www.erdelyimagyarok.com/profile/transylvania
ATTENDEE;ROLE=REQ-PARTICIPANT;PARTSTAT=TENTATIVE;RSVP=TRUE;CN="Margare
 ta Vilhelem":http://www.erdelyimagyarok.com/profile/MargaretaVilhelem
ATTENDEE;ROLE=REQ-PARTICIPANT;PARTSTAT=TENTATIVE;RSVP=TRUE;CN="Lengyel
  JÃ³zsef":http://www.erdelyimagyarok.com/profile/LengyelJozsef
END:VEVENT
END:VCALENDAR
