BEGIN:VCALENDAR
PRODID:NingEventWidget-v1
VERSION:2.0
METHOD:PUBLISH
BEGIN:VTIMEZONE
TZID:Europe/Bucharest
X-LIC-LOCATION:Europe/Bucharest
BEGIN:DAYLIGHT
TZOFFSETFROM:+0200
TZOFFSETTO:+0300
TZNAME:EEST
DTSTART:19700329T030000
RRULE:FREQ=YEARLY;BYMONTH=3;BYDAY=-1SU
END:DAYLIGHT
BEGIN:STANDARD
TZOFFSETFROM:+0300
TZOFFSETTO:+0200
TZNAME:EET
DTSTART:19701025T040000
RRULE:FREQ=YEARLY;BYMONTH=10;BYDAY=-1SU
END:STANDARD
END:VTIMEZONE
BEGIN:VEVENT
UID:4464973:Event:544304
DTSTAMP:20260422T062151Z
SUMMARY:Maros Mezőségi Művésztelep kiállítása
DESCRIPTION:A Mezőség táborainak (Mezőbánd, Mezőbergenye, Mezőm
 adaras, Csittszentiván) 2012-es anyagából nyílik kiállítás Kolo
 zsváron a Reményik Galériában. \n\nTovábbi információért lát
 ogasson el ide: http://www.erdelyimagyarok.com/events/maros-mez-s-gi-m
 -v-sztelep-ki-ll-t-sa
DTSTART;TZID=Europe/Bucharest:20130425T180000
DTEND;TZID=Europe/Bucharest:20130521T190000
CATEGORIES:kiállítás
LOCATION:Kolozsvár - Reményik Sándor Galéria
WEBSITE:
URL:
CONTACT:0265-217349
ORGANIZER;CN="Czirjék Lajos":http://www.erdelyimagyarok.com/profile/C
 zirjekLajos
ATTACH;FMTTYPE="image/jpeg":http://storage.ning.com/topology/rest/1.0/
 file/get/2589419616?profile=original
ATTENDEE;ROLE=REQ-PARTICIPANT;PARTSTAT=ACCEPTED;RSVP=TRUE;CN="Czirjék
  Lajos":http://www.erdelyimagyarok.com/profile/CzirjekLajos
END:VEVENT
END:VCALENDAR
