BEGIN:VCALENDAR
PRODID:NingEventWidget-v1
VERSION:2.0
METHOD:PUBLISH
BEGIN:VTIMEZONE
TZID:Europe/Bucharest
X-LIC-LOCATION:Europe/Bucharest
BEGIN:DAYLIGHT
TZOFFSETFROM:+0200
TZOFFSETTO:+0300
TZNAME:EEST
DTSTART:19700329T030000
RRULE:FREQ=YEARLY;BYMONTH=3;BYDAY=-1SU
END:DAYLIGHT
BEGIN:STANDARD
TZOFFSETFROM:+0300
TZOFFSETTO:+0200
TZNAME:EET
DTSTART:19701025T040000
RRULE:FREQ=YEARLY;BYMONTH=10;BYDAY=-1SU
END:STANDARD
END:VTIMEZONE
BEGIN:VEVENT
UID:4464973:Event:156376
DTSTAMP:20260419T205022Z
SUMMARY:Ökumenikus hét
DESCRIPTION:Ökumenikus hét jegyében , a marosvásárhelyi várban ,
  misét tart György Tibor katolikus pap. Az est érdekessége, hogy f
 ellép a Fagyöngy citera együttes Bőr Hunyadi Gyula vezetésével, 
 ezzel gazdagítva az esti misét.\n\nTovábbi információért látoga
 sson el ide: http://www.erdelyimagyarok.com/events/oekumenikus-het
DTSTART;TZID=Europe/Bucharest:20110121T180000
DTEND;TZID=Europe/Bucharest:20110121T190000
CATEGORIES:délutáni, szent, mise
LOCATION:Marosvásárhelyi vártemplom
WEBSITE:
URL:
CONTACT:
ORGANIZER:a marosvásárhelyi egyházak
ATTACH;FMTTYPE="image/jpeg":
ATTENDEE;ROLE=REQ-PARTICIPANT;PARTSTAT=ACCEPTED;RSVP=TRUE;CN="Pethő I
 ldikó (Barabás )":http://www.erdelyimagyarok.com/profile/PethoIldiko
ATTENDEE;ROLE=REQ-PARTICIPANT;PARTSTAT=TENTATIVE;RSVP=TRUE;CN="BALÁZS
  IDA":http://www.erdelyimagyarok.com/profile/BALAZSIDA
END:VEVENT
END:VCALENDAR
