BEGIN:VCALENDAR
PRODID:NingEventWidget-v1
VERSION:2.0
METHOD:PUBLISH
BEGIN:VTIMEZONE
TZID:Europe/Bucharest
X-LIC-LOCATION:Europe/Bucharest
BEGIN:DAYLIGHT
TZOFFSETFROM:+0200
TZOFFSETTO:+0300
TZNAME:EEST
DTSTART:19700329T030000
RRULE:FREQ=YEARLY;BYMONTH=3;BYDAY=-1SU
END:DAYLIGHT
BEGIN:STANDARD
TZOFFSETFROM:+0300
TZOFFSETTO:+0200
TZNAME:EET
DTSTART:19701025T040000
RRULE:FREQ=YEARLY;BYMONTH=10;BYDAY=-1SU
END:STANDARD
END:VTIMEZONE
BEGIN:VEVENT
UID:4464973:Event:531970
DTSTAMP:20260422T062003Z
SUMMARY:Székelypálfalvi Alkotótábor II.
DESCRIPTION:Erdélyi Alkotótábor \n2013. május 12- május 20.\n \
 n \n Székely-Pálfalva Berze Vendégház          \n \nJ
 OBB AGYFÉLTEKÉS RAJZTANFOLYAM\nÉS FESTŐ FOTÓS ALKOTÓTÁBOR\n \n
 Ebbe az alkotótáborba elsősorban azokat a tanulni, fejlődni vágy
  alkotókat várjuk, akik kedvet éreznek ahhoz, hogy egy régi Szék
 ely település szépségét és érintetlen természetességét képe
 ikbe foglalják, közben részt vegyenek egy professzionális jobb agy
 féltekés rajzkurzuson\n \nI. Jobb agyféltekés rajzismeret elsajá
 títása portrérajzolás 4 napos kurzuson\nII. Székely-Pálfalva  m
 egörökítése képekben, fotókban, grafikákban\n \nProgram:\nMáj
 us 12.  Vasárnap: utazás. Megérkezés, estebéd, ismerkedés egym
 ssal és bemutatkozás\n       A heti program ismertetése, est
 i séta a faluban.\nMájus 13-tól 16-ig Hétfőtől csütörtökig ra
 jztanfolyam 09-16 óráig\nA napi gyakorlatok után kirándulás a kö
 rnyék meseszép falvaiban, illetve a faluban          a sajt
 készítő és a fafaragó műhelybe.\nMájus 17. Pénteken kirándul
 s:  Farkaslaka, Korond, Atyha, Énlaka\nMájus 18. Szombat: Csíksom
 lyó PÜNKÖSDI MISE egész napos program, fakultatív\nMájus 19. Vas
 árnap: a kiállítás építése, Szentmise a helyi katolikus templom
 ban, ebéd, közös                kiállítás , búcs
 úest .\n Május 20. Hétfő: reggeli után a maradó képek kivétel
 ével, a kiállítás bontása és hazautazás\n \nSzervező: Gebora 
 István (a Verőcei Nyílt Műhely Alkotókör vezetője, művészeti 
 menedzser)\nGrafika kurzus vezetője:  Zsidákovics Mihály ( Network
  Amatőr Festők, MAG tanoda)\n      A részvételi díj tartalma
 zza a szállást és az étkezést is a Berze vendégházban.\n(Kétá
 gyas, zuhanyzós, WC-s szobák, tartalmas reggeli és gazdag estebéd)
 \nA jobb agyféltekés grafikai kurzuson a részvevők számára a kel
 lékeket biztosítjuk\nBiztosítjuk az idegenvezetést a faluban és k
 örnyékén, a szervezet utat a Csíksomlyói Pünkösdi Búcsúra. Fa
 kultatív lehetőséget a fafaragó és sajtkészítő műhelyekben, v
 alamint a kézműves foglalkozásokon. A tábor alkotásaiból közös
  kiállítást rendezünk Székely-Pálfalván,\nmajd hazatérve Verő
 cén és a MAG tanodában.\nUtazás egyénileg (segítünk telekocsi s
 zervezésben, hogy az utazási költség csökkenjen)\nAz utazás igé
 ny szerint konvojban felvezetéssel  Budapesttől illetve Ártándtó
 l. (kb 650 km)\nAlapanyagot, festőszerszámot, festéket, állványt 
 mindenki saját szükségletének megfelelően hozzon magával , a raj
 ztanfolyam szervezők által biztosított anyagán kívül.\nA program
 ok nem kötöttek, a részvétel minden esetben fakultatív\nSzállás
  és étkezés Berze Vendégház Székely-Pálfalva-  www.berze.ro\nE
 llátás12-én vacsorától 20-án reggeliig  8 éjszaka\nKétágyas,
  központi fűtéses zuhanyzós WC-s szobákban.\nRészvételi díj 23
 0 Euró/ Fő\nJelentkezéskor fizetendő 80 Euró\nÁprilis 15-ig a te
 ljes összeg kiegyenlítésére 130 Euró, vagy a befizetéskor érvé
 nyes árfolyamon forintban.\nAz alkotótábor megfelelő számú jelen
 tkező esetén indul, korlátozott létszámmal.\nA helyeket a jelentk
 ezés sorrendjében tudjuk biztosítani\nVerőce, 2013.január   Geb
 ora István\nJelentkezés és előlegfizetés :\nGebora István   te
 l +3630964313 geborart@gmail.com       vagy    yeti5321@gmail
 .com\nZsidákovics Mihály tel +36309222141  zsidakovics@gmail.com\n
 \n\nTovábbi információért látogasson el ide: http://www.erdelyim
 agyarok.com/events/sz-kelyp-lfalvi-alkot-t-bor-ii
DTSTART;TZID=Europe/Bucharest:20130512T060000
DTEND;TZID=Europe/Bucharest:20130520T190000
CATEGORIES:képzőművészeti, alkotótábor
LOCATION:SZÉKELYPÁLFALVA BERZE VENDÉGHÁZ
WEBSITE:
URL:
CONTACT:+36 30 9643136
ORGANIZER;CN="Gebora István":http://www.erdelyimagyarok.com/profile/G
 eboraIstvan
ATTACH;FMTTYPE="image/jpeg":http://storage.ning.com/topology/rest/1.0/
 file/get/2589417665?profile=original
ATTENDEE;ROLE=REQ-PARTICIPANT;PARTSTAT=ACCEPTED;RSVP=TRUE;CN="Gebora I
 stván":http://www.erdelyimagyarok.com/profile/GeboraIstvan
END:VEVENT
END:VCALENDAR
